BEGIN:VCALENDAR
VERSION:2.0
PRODID:-//Post-Haste Reed Duo - ECPv4.7.4//NONSGML v1.0//EN
CALSCALE:GREGORIAN
METHOD:PUBLISH
X-WR-CALNAME:Post-Haste Reed Duo
X-ORIGINAL-URL:http://posthasteduo.com/wp
X-WR-CALDESC:Events for Post-Haste Reed Duo
BEGIN:VEVENT
DTSTART;TZID=UTC+0:20180512T080000
DTEND;TZID=UTC+0:20180512T220000
DTSTAMP:20260419T210047
CREATED:20170928T164424Z
LAST-MODIFIED:20170928T165117Z
UID:191-1526112000-1526162400@posthasteduo.com
SUMMARY:Sound of Late - Rituals (Seattle)
DESCRIPTION:\nPHRD teams up with Sound of Late for an evening of music:\n\n\n\n\n\n\n\nMaking coffee in the morning\, blowing out the birthday candles\, or throwing spilled salt over our shoulders: we have a collective compulsion to make and follow rituals. Beginning with Sequences by Icelandic composer Anna Thorvaldsdottir\, Sound of Late starts an exploration of the actions\, traditions and superstitions that bind us together. \nWhat to Expect: \n\nAn approximately one-hour\, casual show with no intermission.\nDoors open at 7:30pm. Arrive early to enjoy a complimentary drink.\nStay late to talk with the artists after the concert.\n\nSeating is general admission and tickets are $15 online and $20 day-of-show. If you have specific seating needs\, please email yourfriends@soundoflate.org with your request. \n\n\n\n\n\n\n 
URL:http://posthasteduo.com/wp/event/sound-of-late-rituals-seattle/
LOCATION:Flutter Studios\, 114 Alaskan Way S.\, #114\, Seattle\, WA\, 98104\, United States
END:VEVENT
END:VCALENDAR