BEGIN:VCALENDAR
VERSION:2.0
PRODID:-//Post-Haste Reed Duo - ECPv4.7.4//NONSGML v1.0//EN
CALSCALE:GREGORIAN
METHOD:PUBLISH
X-WR-CALNAME:Post-Haste Reed Duo
X-ORIGINAL-URL:http://posthasteduo.com/wp
X-WR-CALDESC:Events for Post-Haste Reed Duo
BEGIN:VEVENT
DTSTART;TZID=UTC+0:20170303T073000
DTEND;TZID=UTC+0:20170303T210000
DTSTAMP:20260420T054824
CREATED:20170210T223728Z
LAST-MODIFIED:20170210T223728Z
UID:177-1488526200-1488574800@posthasteduo.com
SUMMARY:SCI Region VIII Conference and WSU Festival of Contemporary Art Music
DESCRIPTION:Washington State University \nPullman\, WA \nHosted by Society of Composers\, Inc. and Ryan Hare \nFeaturing SCI Region VIII Call for Scores winning work “Dorian Staircase” by Frank Nawrot \n 
URL:http://posthasteduo.com/wp/event/sci-region-viii-conference-and-wsu-festival-of-contemporary-art-music/
LOCATION:Washington State University
END:VEVENT
END:VCALENDAR