BEGIN:VCALENDAR
VERSION:2.0
PRODID:-//Post-Haste Reed Duo - ECPv4.7.4//NONSGML v1.0//EN
CALSCALE:GREGORIAN
METHOD:PUBLISH
X-WR-CALNAME:Post-Haste Reed Duo
X-ORIGINAL-URL:http://posthasteduo.com/wp
X-WR-CALDESC:Events for Post-Haste Reed Duo
BEGIN:VEVENT
DTSTART;TZID=UTC+0:20190216T123000
DTEND;TZID=UTC+0:20190216T140000
DTSTAMP:20260419T121611
CREATED:20190206T225047Z
LAST-MODIFIED:20190206T225047Z
UID:339-1550320200-1550325600@posthasteduo.com
SUMMARY:Play Your Passion! NAfME All-Northwest
DESCRIPTION: 
URL:http://posthasteduo.com/wp/event/play-your-passion-nafme-all-northwest/
LOCATION:Portland Convention Center
END:VEVENT
END:VCALENDAR