BEGIN:VCALENDAR
VERSION:2.0
PRODID:-//Post-Haste Reed Duo - ECPv4.7.4//NONSGML v1.0//EN
CALSCALE:GREGORIAN
METHOD:PUBLISH
X-WR-CALNAME:Post-Haste Reed Duo
X-ORIGINAL-URL:http://posthasteduo.com/wp
X-WR-CALDESC:Events for Post-Haste Reed Duo
BEGIN:VEVENT
DTSTART;TZID=UTC+0:20160316T173000
DTEND;TZID=UTC+0:20160316T190000
DTSTAMP:20260420T192707
CREATED:20151019T203848Z
LAST-MODIFIED:20151019T203848Z
UID:73-1458149400-1458154800@posthasteduo.com
SUMMARY:PHRD @ PLU
DESCRIPTION:Pacific Lutheran University\nArtists Series: Post Haste Reed Duo (Saxophone & Bassoon)\nTickets: $8 general admission\, $5 senior citizen (55+); alumni\, free PLU community\, 18 and under. Tickets available through the PLU Concierge Desk (253 535-7411) \n 
URL:http://posthasteduo.com/wp/event/phrd-plu/
LOCATION:Lagerquist Concert Hall\, Mary Baker Russell Music Center\, Tacoma\, WA\, 98447\, United States
END:VEVENT
END:VCALENDAR