BEGIN:VCALENDAR
VERSION:2.0
PRODID:-//Post-Haste Reed Duo - ECPv4.7.4//NONSGML v1.0//EN
CALSCALE:GREGORIAN
METHOD:PUBLISH
X-WR-CALNAME:Post-Haste Reed Duo
X-ORIGINAL-URL:http://posthasteduo.com/wp
X-WR-CALDESC:Events for Post-Haste Reed Duo
BEGIN:VEVENT
DTSTART;TZID=UTC+0:20170310T073000
DTEND;TZID=UTC+0:20170310T210000
DTSTAMP:20260420T040755
CREATED:20170210T224322Z
LAST-MODIFIED:20170210T224322Z
UID:179-1489131000-1489179600@posthasteduo.com
SUMMARY:NASA Region 1 Conference
DESCRIPTION:North American Saxophone Alliance Region 1 Conference \nPortland State University \n  \n 
URL:http://posthasteduo.com/wp/event/nasa-region-1-conference/
LOCATION:Portland State University
END:VEVENT
END:VCALENDAR