BEGIN:VCALENDAR
VERSION:2.0
PRODID:-//Post-Haste Reed Duo - ECPv4.7.4//NONSGML v1.0//EN
CALSCALE:GREGORIAN
METHOD:PUBLISH
X-WR-CALNAME:Post-Haste Reed Duo
X-ORIGINAL-URL:http://posthasteduo.com/wp
X-WR-CALDESC:Events for Post-Haste Reed Duo
BEGIN:VEVENT
DTSTART;TZID=UTC+0:20160312T100000
DTEND;TZID=UTC+0:20160312T120000
DTSTAMP:20260420T224411
CREATED:20151008T211749Z
LAST-MODIFIED:20160308T054452Z
UID:67-1457776800-1457784000@posthasteduo.com
SUMMARY:NASA 2016
DESCRIPTION:2016 North American Saxophone Alliance Biennial Conference \nKent Hance Chapel \nTexas Tech University \nLubbock\, TX \n 
URL:http://posthasteduo.com/wp/event/nasa-2016/
LOCATION:School of Music – Texas Tech University\, 18th Boston Ave\, Lubbock\, TX\, 79409\, United States
END:VEVENT
END:VCALENDAR