BEGIN:VCALENDAR
VERSION:2.0
PRODID:-//Post-Haste Reed Duo - ECPv4.7.4//NONSGML v1.0//EN
CALSCALE:GREGORIAN
METHOD:PUBLISH
X-WR-CALNAME:Post-Haste Reed Duo
X-ORIGINAL-URL:http://posthasteduo.com/wp
X-WR-CALDESC:Events for Post-Haste Reed Duo
BEGIN:VEVENT
DTSTART;TZID=UTC+0:20180415T190000
DTEND;TZID=UTC+0:20180415T210000
DTSTAMP:20260419T224940
CREATED:20170928T163754Z
LAST-MODIFIED:20170928T163754Z
UID:189-1523818800-1523826000@posthasteduo.com
SUMMARY:Jubilus Festival
DESCRIPTION:2017 Jubilus Festival Season \nGainesville\, FL \n 
URL:http://posthasteduo.com/wp/event/jubilus-festival/
LOCATION:Unnamed Venue\, Gainesville\, FL\, United States
END:VEVENT
END:VCALENDAR