BEGIN:VCALENDAR
VERSION:2.0
PRODID:-//Post-Haste Reed Duo - ECPv4.7.4//NONSGML v1.0//EN
CALSCALE:GREGORIAN
METHOD:PUBLISH
X-WR-CALNAME:Post-Haste Reed Duo
X-ORIGINAL-URL:http://posthasteduo.com/wp
X-WR-CALDESC:Events for Post-Haste Reed Duo
BEGIN:VEVENT
DTSTART;TZID=UTC+0:20160920T193000
DTEND;TZID=UTC+0:20160920T210000
DTSTAMP:20260420T123939
CREATED:20160823T043250Z
LAST-MODIFIED:20160823T043250Z
UID:164-1474399800-1474405200@posthasteduo.com
SUMMARY:University of the Pacific - Conservatory of Music
DESCRIPTION:Guest Artist Series \n 
URL:http://posthasteduo.com/wp/event/httpscalendar-pacific-edueventguest_artist_series_-_post-haste_reed_duoutm_campaignwidgetutm_mediumwidgetutm_sourceuniversityofthepacific-v7vriph7oww/
LOCATION:Recital Hall\, 3515 Pacific Circle\, Stockton\, 95211\, United States
END:VEVENT
END:VCALENDAR