BEGIN:VCALENDAR
VERSION:2.0
PRODID:-//Post-Haste Reed Duo - ECPv4.7.4//NONSGML v1.0//EN
CALSCALE:GREGORIAN
METHOD:PUBLISH
X-WR-CALNAME:Post-Haste Reed Duo
X-ORIGINAL-URL:http://posthasteduo.com/wp
X-WR-CALDESC:Events for Post-Haste Reed Duo
BEGIN:VEVENT
DTSTART;TZID=UTC+0:20160922T200000
DTEND;TZID=UTC+0:20160922T225900
DTSTAMP:20260420T091226
CREATED:20160426T031106Z
LAST-MODIFIED:20160823T044301Z
UID:153-1474574400-1474585140@posthasteduo.com
SUMMARY:Center for New Music
DESCRIPTION:Music from our debut album\, Beneath a canopy of angels…a river of stars \nCurated by Meerenai Shim \n 
URL:http://posthasteduo.com/wp/event/httpcenterfornewmusic-comcalendaraerocade-music-presents-ab-duo-post-haste-reed-duo-cd/
LOCATION:Center for New Music\, 55 taylor street\, San Francisco\, CA\, 94102\, United States
END:VEVENT
END:VCALENDAR