BEGIN:VCALENDAR
VERSION:2.0
PRODID:-//Post-Haste Reed Duo - ECPv4.7.4//NONSGML v1.0//EN
CALSCALE:GREGORIAN
METHOD:PUBLISH
X-WR-CALNAME:Post-Haste Reed Duo
X-ORIGINAL-URL:http://posthasteduo.com/wp
X-WR-CALDESC:Events for Post-Haste Reed Duo
BEGIN:VEVENT
DTSTART;VALUE=DATE:20180109
DTEND;VALUE=DATE:20180112
DTSTAMP:20260420T003629
CREATED:20170928T163329Z
LAST-MODIFIED:20170928T163329Z
UID:187-1515456000-1515715199@posthasteduo.com
SUMMARY:Hawaii International Conference on Arts & Humanities
DESCRIPTION:Hawaii International Conference on Arts & Humanities \nPanel Discussion – “Snapshots: A look into the relationship between performers and composers” \nWith performance of “Snapshots” for alto saxophone and bassoon by Takuma Itoh \n 
URL:http://posthasteduo.com/wp/event/hawaii-international-conference-on-arts-humanities/
LOCATION:Hilton Hawaiian Village Waikiki Beach Resort\, 2005 Kalia Road\, Honolulu\, HI\, 96815\, United States
END:VEVENT
END:VCALENDAR