BEGIN:VCALENDAR
VERSION:2.0
PRODID:-//Post-Haste Reed Duo - ECPv4.7.4//NONSGML v1.0//EN
CALSCALE:GREGORIAN
METHOD:PUBLISH
X-WR-CALNAME:Post-Haste Reed Duo
X-ORIGINAL-URL:http://posthasteduo.com/wp
X-WR-CALDESC:Events for Post-Haste Reed Duo
BEGIN:VEVENT
DTSTART;VALUE=DATE:20161216
DTEND;VALUE=DATE:20161217
DTSTAMP:20260420T073130
CREATED:20160426T031325Z
LAST-MODIFIED:20160426T031325Z
UID:155-1481846400-1481932799@posthasteduo.com
SUMMARY:Guapiles\, Costa Rica
DESCRIPTION: 
URL:http://posthasteduo.com/wp/event/guapiles-costa-rica/
LOCATION:Unnamed Venue\, Guapiles\, Limon\, Costa Rica
END:VEVENT
END:VCALENDAR