BEGIN:VCALENDAR
VERSION:2.0
PRODID:-//Post-Haste Reed Duo - ECPv4.7.4//NONSGML v1.0//EN
CALSCALE:GREGORIAN
METHOD:PUBLISH
X-WR-CALNAME:Post-Haste Reed Duo
X-ORIGINAL-URL:http://posthasteduo.com/wp
X-WR-CALDESC:Events for Post-Haste Reed Duo
BEGIN:VEVENT
DTSTART;TZID=UTC+0:20171026T193000
DTEND;TZID=UTC+0:20171026T210000
DTSTAMP:20260420T021038
CREATED:20170928T161657Z
LAST-MODIFIED:20170928T161657Z
UID:185-1509046200-1509051600@posthasteduo.com
SUMMARY:College Music Society 2017 National Conference
DESCRIPTION:CMS 2017 National Conference \nConcert I: Showcase of CMS Performers & Performers \nPHRD performs “Confluences” by Ethan Wickman \nTravis Park United Methodist Church \n  \n 
URL:http://posthasteduo.com/wp/event/college-music-society-2017-national-conference/
LOCATION:Travis Park United Methodist Church\, 230 E Travis St\,  San Antonio\, TX\, 78205\, United States
END:VEVENT
END:VCALENDAR