BEGIN:VCALENDAR
VERSION:2.0
PRODID:-//Post-Haste Reed Duo - ECPv4.7.4//NONSGML v1.0//EN
CALSCALE:GREGORIAN
METHOD:PUBLISH
X-WR-CALNAME:Post-Haste Reed Duo
X-ORIGINAL-URL:http://posthasteduo.com/wp
X-WR-CALDESC:Events for Post-Haste Reed Duo
BEGIN:VEVENT
DTSTART;TZID=UTC+0:20180609T213000
DTEND;TZID=UTC+0:20180609T233000
DTSTAMP:20260419T174337
CREATED:20180522T201254Z
LAST-MODIFIED:20180522T201254Z
UID:202-1528579800-1528587000@posthasteduo.com
SUMMARY:Cleveland Uncommon Sound Project (CUSP)
DESCRIPTION:Cleveland Uncommon Sound Project  \nCoda: PHRD with Martha Mooke\, Joo Won Park\, and Will Mason \nPerforming the music of Ruby Fulton: \n“27 Miles East of Headquarters\, ID” for bassoon and electronics \n“Donut Robot!” for alto saxophone and bassoon – World Premiere! \n 
URL:http://posthasteduo.com/wp/event/cleveland-uncommon-sound-project-cusp/
LOCATION:CODA\, 2247 Professor Ave\, Cleveland\, OH\, 44113\, United States
END:VEVENT
END:VCALENDAR