BEGIN:VCALENDAR
VERSION:2.0
PRODID:-//Post-Haste Reed Duo - ECPv4.7.4//NONSGML v1.0//EN
CALSCALE:GREGORIAN
METHOD:PUBLISH
X-WR-CALNAME:Post-Haste Reed Duo
X-ORIGINAL-URL:http://posthasteduo.com/wp
X-WR-CALDESC:Events for Post-Haste Reed Duo
BEGIN:VEVENT
DTSTART;TZID=UTC+0:20160921T193000
DTEND;TZID=UTC+0:20160921T210000
DTSTAMP:20260420T104144
CREATED:20160823T044136Z
LAST-MODIFIED:20160823T044136Z
UID:167-1474486200-1474491600@posthasteduo.com
SUMMARY:California State University - Monterey Bay
DESCRIPTION:Hosted by Lanier Sammons \n  \n 
URL:http://posthasteduo.com/wp/event/california-state-university-monterey-bay/
LOCATION:Music Hall\, 3220 Sixth Avenue\, Seaside\, 93955\, United States
END:VEVENT
END:VCALENDAR