BEGIN:VCALENDAR
VERSION:2.0
PRODID:-//Post-Haste Reed Duo - ECPv4.7.4//NONSGML v1.0//EN
CALSCALE:GREGORIAN
METHOD:PUBLISH
X-WR-CALNAME:Post-Haste Reed Duo
X-ORIGINAL-URL:http://posthasteduo.com/wp
X-WR-CALDESC:Events for Post-Haste Reed Duo
BEGIN:VEVENT
DTSTART;VALUE=DATE:20160130
DTEND;VALUE=DATE:20160131
DTSTAMP:20260420T230036
CREATED:20151005T225216Z
LAST-MODIFIED:20151229T175333Z
UID:33-1454112000-1454198399@posthasteduo.com
SUMMARY:Album Release Performance/Party!
DESCRIPTION:Save the date for our album release performance/party in Portland\, OR. \n 
URL:http://posthasteduo.com/wp/event/albumreleaseperformance/
END:VEVENT
END:VCALENDAR